BEGIN:VCALENDAR
VERSION:2.0
PRODID:-//Agrani - ECPv5.14.1//NONSGML v1.0//EN
CALSCALE:GREGORIAN
METHOD:PUBLISH
X-WR-CALNAME:Agrani
X-ORIGINAL-URL:https://www.agraninj.org
X-WR-CALDESC:Events for Agrani
REFRESH-INTERVAL;VALUE=DURATION:PT1H
X-Robots-Tag:noindex
X-PUBLISHED-TTL:PT1H
BEGIN:VTIMEZONE
TZID:UTC
BEGIN:STANDARD
TZOFFSETFROM:+0000
TZOFFSETTO:+0000
TZNAME:UTC
DTSTART:20240101T000000
END:STANDARD
END:VTIMEZONE
BEGIN:VEVENT
DTSTART;TZID=UTC:20241221T190000
DTEND;TZID=UTC:20241221T233000
DTSTAMP:20260425T113227
CREATED:20220405T055421Z
LAST-MODIFIED:20241101T132702Z
UID:1496-1734807600-1734823800@www.agraninj.org
SUMMARY:Holiday Party Fundraiser
DESCRIPTION:Enjoy gala night with family and friends at Agrani’s Holiday Bash. \n** Membership discount applicable on Adult Prices only **
URL:https://www.agraninj.org/event/newyears/
LOCATION:Venue – To Be Decided
CATEGORIES:Fund Raiser
ATTACH;FMTTYPE=image/jpeg:https://www.agraninj.org/wp-content/uploads/2022/04/HP.jpg
END:VEVENT
END:VCALENDAR