BEGIN:VCALENDAR
VERSION:2.0
PRODID:-//Agrani - ECPv5.14.1//NONSGML v1.0//EN
CALSCALE:GREGORIAN
METHOD:PUBLISH
X-WR-CALNAME:Agrani
X-ORIGINAL-URL:https://www.agraninj.org
X-WR-CALDESC:Events for Agrani
REFRESH-INTERVAL;VALUE=DURATION:PT1H
X-Robots-Tag:noindex
X-PUBLISHED-TTL:PT1H
BEGIN:VTIMEZONE
TZID:UTC
BEGIN:STANDARD
TZOFFSETFROM:+0000
TZOFFSETTO:+0000
TZNAME:UTC
DTSTART:20250101T000000
END:STANDARD
END:VTIMEZONE
BEGIN:VEVENT
DTSTART;TZID=UTC:20250824T093000
DTEND;TZID=UTC:20250824T183000
DTSTAMP:20260425T143706
CREATED:20220323T010029Z
LAST-MODIFIED:20250527T170453Z
UID:383-1756027800-1756060200@www.agraninj.org
SUMMARY:Annual Summer Picnic - 2025
DESCRIPTION:Come and join us for our annual picnic event. Agrani’s 2024 picnic will be held at Alvin P. Williams Memorial Park \, Sewaren on Sunday August 24th \, 2025 starting 10 am. Bring your family and enjoy a day full of games\, music\,  and food. \n 
URL:https://www.agraninj.org/event/picnic/
LOCATION:Alvin P. Williams Memorial Park\, Port Reading Ave\, Sewaren\, 07077
CATEGORIES:Family Event
ATTACH;FMTTYPE=image/png:https://www.agraninj.org/wp-content/uploads/2022/03/Screenshot-2024-05-23-at-1.14.10-PM.png
ORGANIZER;CN="Agrani%20Of%20New%20Jersey":MAILTO:info@agraninj.org
END:VEVENT
END:VCALENDAR