BEGIN:VCALENDAR
VERSION:2.0
PRODID:-//Agrani - ECPv5.14.1//NONSGML v1.0//EN
CALSCALE:GREGORIAN
METHOD:PUBLISH
X-WR-CALNAME:Agrani
X-ORIGINAL-URL:https://www.agraninj.org
X-WR-CALDESC:Events for Agrani
REFRESH-INTERVAL;VALUE=DURATION:PT1H
X-Robots-Tag:noindex
X-PUBLISHED-TTL:PT1H
BEGIN:VTIMEZONE
TZID:UTC
BEGIN:STANDARD
TZOFFSETFROM:+0000
TZOFFSETTO:+0000
TZNAME:UTC
DTSTART:20260101T000000
END:STANDARD
END:VTIMEZONE
BEGIN:VEVENT
DTSTART;TZID=UTC:20260509T120000
DTEND;TZID=UTC:20260509T183000
DTSTAMP:20260424T072050
CREATED:20141020T174539Z
LAST-MODIFIED:20260311T165925Z
UID:67-1778328000-1778351400@www.agraninj.org
SUMMARY:Agrani QUIZ - WHIZZ
DESCRIPTION:Agrani Quiz – 2026. \nIn person quiz with Quiz master to showcase your talent.
URL:https://www.agraninj.org/event/fundraiser/
LOCATION:Minnie B. Veal Community Center\, 1070 Grove Ave\, Edison\, NJ\, 08820\, United States
CATEGORIES:Fund Raiser
ATTACH;FMTTYPE=image/webp:https://www.agraninj.org/wp-content/uploads/2014/10/Quiz.webp
ORGANIZER;CN="Agrani%20Of%20New%20Jersey":MAILTO:info@agraninj.org
END:VEVENT
END:VCALENDAR